BEGIN:VCALENDAR
VERSION:2.0
PRODID:-//Saint-Bauzely - ECPv4.9.8//NONSGML v1.0//EN
CALSCALE:GREGORIAN
METHOD:PUBLISH
X-WR-CALNAME:Saint-Bauzely
X-ORIGINAL-URL:https://www.mairiesaintbauzely.fr
X-WR-CALDESC:Évènements pour Saint-Bauzely
BEGIN:VTIMEZONE
TZID:Europe/Paris
BEGIN:DAYLIGHT
TZOFFSETFROM:+0100
TZOFFSETTO:+0200
TZNAME:CEST
DTSTART:20260329T010000
END:DAYLIGHT
BEGIN:STANDARD
TZOFFSETFROM:+0200
TZOFFSETTO:+0100
TZNAME:CET
DTSTART:20261025T010000
END:STANDARD
END:VTIMEZONE
BEGIN:VEVENT
DTSTART;TZID="Europe/Paris":20260410T080000
DTEND;TZID="Europe/Paris":20260411T170000
DTSTAMP:20260420T130525
CREATED:20260407T192452Z
LAST-MODIFIED:20260407T192452Z
UID:7183-1775808000-1775926800@www.mairiesaintbauzely.fr
SUMMARY:STAGE YOGA
DESCRIPTION:
URL:https://www.mairiesaintbauzely.fr/event/stage-yoga/
LOCATION:Foyer municipal\, Saint Bauzély\, 30730\, France
ATTACH;FMTTYPE=image/jpeg:https://www.mairiesaintbauzely.fr/wp-content/uploads/sites/7/2026/04/yoga.jpg
END:VEVENT
END:VCALENDAR